BEGIN:VCALENDAR
VERSION:2.0
PRODID:-//wp-events-plugin.com//7.2.3.1//EN
BEGIN:VEVENT
UID:6@ksoctavefoundation.org
DTSTART:20251125T160000Z
DTEND:20251230T170000Z
DTSTAMP:20251113T133800Z
URL:https://ksoctavefoundation.org/events/moore-county-8-session-mini-camp
 /
SUMMARY:Youth Baseball Association 8-Session Mini-Camp
DESCRIPTION:Take your game to the next level with our 8-part Baseball Train
 ing Series\, designed for athletes in grades 5–12 who are ready to trai
 n like the pros. This exclusive program blends cutting-edge technology\, d
 ata analytics\, and professional coaching to help each athlete understand 
 and elevate their performance.\nPlayers will get hands-on experience with 
 professional-grade data tools\, giving them access to insights and feedba
 ck used by top college and professional players. Each athlete’s progress
  will be tracked and measured over time\, allowing for personalized feedba
 ck and growth throughout the series.\nLed by Kedeem Octave\, athletes will
  gain not only advanced skill development but also mentorship and an insid
 e look at how today’s best players train.\nWhether you’re preparing fo
 r your next season or striving to reach the next level\, this program is y
 our chance to experience the future of baseball training.\nThe following d
 ates are booked for this mini-camp series but are subject to change:\nTues
 day\, November 25th : 4:00-5:00PM\n\nTuesday\, December 2nd : 4:00-5:00PM\
 n\nThursday\, December 4th : 4:00-5:00PM\n\nTuesday\, December 9th : 4:00-
 5:00PM\n\nThursday\, December 11th : 4:00-5:00PM\n\nTuesday\, December 16t
 h : 4:00-5:00PM\n\nThursday\, December 18th : 4:00-5:00PM\n\nTuesday\, Dec
 ember 30th : 4:00-5:00PM
LOCATION:Moore Reps\, 261 Niagara Carthage Road\, Carthage\, NC\, 28327\, U
 nited States
X-APPLE-STRUCTURED-LOCATION;VALUE=URI;X-ADDRESS=261 Niagara Carthage Road\,
  Carthage\, NC\, 28327\, United States;X-APPLE-RADIUS=100;X-TITLE=Moore Re
 ps:geo:0,0
END:VEVENT
END:VCALENDAR