BEGIN:VCALENDAR
VERSION:2.0
PRODID:-//wp-events-plugin.com//7.2.3.1//EN
BEGIN:VEVENT
UID:5@ksoctavefoundation.org
DTSTART;TZID=America/New_York:20251123T090000
DTEND;TZID=America/New_York:20251123T123000
DTSTAMP:20251108T021442Z
URL:https://ksoctavefoundation.org/events/november-23rd-camp-at-greensboro
 -batting-center/
SUMMARY:November 23rd Camp at Greensboro Batting Center
DESCRIPTION:
CATEGORIES:Camp
END:VEVENT
BEGIN:VTIMEZONE
TZID:America/New_York
X-LIC-LOCATION:America/New_York
BEGIN:STANDARD
DTSTART:20251102T010000
TZOFFSETFROM:-0400
TZOFFSETTO:-0500
TZNAME:EST
END:STANDARD
END:VTIMEZONE
END:VCALENDAR